BEGIN:VCALENDAR
VERSION:2.0
PRODID:-//The Louis Hotel - ECPv6.15.20//NONSGML v1.0//EN
CALSCALE:GREGORIAN
METHOD:PUBLISH
X-WR-CALNAME:The Louis Hotel
X-ORIGINAL-URL:https://thelouishotel.com
X-WR-CALDESC:Events for The Louis Hotel
REFRESH-INTERVAL;VALUE=DURATION:PT1H
X-Robots-Tag:noindex
X-PUBLISHED-TTL:PT1H
BEGIN:VTIMEZONE
TZID:America/Chicago
BEGIN:DAYLIGHT
TZOFFSETFROM:-0600
TZOFFSETTO:-0500
TZNAME:CDT
DTSTART:20220313T080000
END:DAYLIGHT
BEGIN:STANDARD
TZOFFSETFROM:-0500
TZOFFSETTO:-0600
TZNAME:CST
DTSTART:20221106T070000
END:STANDARD
BEGIN:DAYLIGHT
TZOFFSETFROM:-0600
TZOFFSETTO:-0500
TZNAME:CDT
DTSTART:20230312T080000
END:DAYLIGHT
BEGIN:STANDARD
TZOFFSETFROM:-0500
TZOFFSETTO:-0600
TZNAME:CST
DTSTART:20231105T070000
END:STANDARD
BEGIN:DAYLIGHT
TZOFFSETFROM:-0600
TZOFFSETTO:-0500
TZNAME:CDT
DTSTART:20240310T080000
END:DAYLIGHT
BEGIN:STANDARD
TZOFFSETFROM:-0500
TZOFFSETTO:-0600
TZNAME:CST
DTSTART:20241103T070000
END:STANDARD
END:VTIMEZONE
BEGIN:VEVENT
DTSTART;TZID=America/Chicago:20231216T180000
DTEND;TZID=America/Chicago:20231216T200000
DTSTAMP:20260422T033518
CREATED:20231105T105910Z
LAST-MODIFIED:20231105T105910Z
UID:10000030-1702749600-1702756800@thelouishotel.com
SUMMARY:Holiday Wine Dinner
DESCRIPTION:Indulge in an exquisite dining experience at The Tin House\, nestled gracefully beside the pristine greens of our idyllic golf course. \nThe three-course dinner with thoughtfully curated wine pairings promises to be a culinary journey that will delight your senses and leave a lasting impression.
URL:https://thelouishotel.com/event/holiday-wine-dinner/
LOCATION:The Grange\, 26 Lake Drive\, Wilson\, AR\, 72395\, United States
CATEGORIES:event
ATTACH;FMTTYPE=image/png:https://thelouishotel.com/wp-content/uploads/WilsonWineExperience.png
END:VEVENT
END:VCALENDAR