BEGIN:VCALENDAR
VERSION:2.0
PRODID:-//The Louis Hotel - ECPv6.15.20//NONSGML v1.0//EN
CALSCALE:GREGORIAN
METHOD:PUBLISH
X-WR-CALNAME:The Louis Hotel
X-ORIGINAL-URL:https://thelouishotel.com
X-WR-CALDESC:Events for The Louis Hotel
REFRESH-INTERVAL;VALUE=DURATION:PT1H
X-Robots-Tag:noindex
X-PUBLISHED-TTL:PT1H
BEGIN:VTIMEZONE
TZID:America/Chicago
BEGIN:DAYLIGHT
TZOFFSETFROM:-0600
TZOFFSETTO:-0500
TZNAME:CDT
DTSTART:20240310T080000
END:DAYLIGHT
BEGIN:STANDARD
TZOFFSETFROM:-0500
TZOFFSETTO:-0600
TZNAME:CST
DTSTART:20241103T070000
END:STANDARD
BEGIN:DAYLIGHT
TZOFFSETFROM:-0600
TZOFFSETTO:-0500
TZNAME:CDT
DTSTART:20250309T080000
END:DAYLIGHT
BEGIN:STANDARD
TZOFFSETFROM:-0500
TZOFFSETTO:-0600
TZNAME:CST
DTSTART:20251102T070000
END:STANDARD
BEGIN:DAYLIGHT
TZOFFSETFROM:-0600
TZOFFSETTO:-0500
TZNAME:CDT
DTSTART:20260308T080000
END:DAYLIGHT
BEGIN:STANDARD
TZOFFSETFROM:-0500
TZOFFSETTO:-0600
TZNAME:CST
DTSTART:20261101T070000
END:STANDARD
END:VTIMEZONE
BEGIN:VEVENT
DTSTART;TZID=America/Chicago:20250403T080000
DTEND;TZID=America/Chicago:20250403T160000
DTSTAMP:20260425T180535
CREATED:20250101T225909Z
LAST-MODIFIED:20250101T225909Z
UID:10000080-1743667200-1743696000@thelouishotel.com
SUMMARY:Wilson Chamber of Commerce Golf Tournament
DESCRIPTION:Join us for a day of golf\, networking\, and friendly competition at the Wilson Chamber of Commerce Golf Tournament! \nBe there on Thursday\, April 3rd to enjoy fun on course contests and catered lunch from The Grange at Wilson Gardens. Enjoy the views of the lake that borders the course as you enjoy made fresh daily\, farm to table goodness! \nThe reversible course is what everyone is talking about in Arkansas\, and we know you’ll agree once you experience it firsthand. \nTours will be available of our award-winning Louis boutique Hotel. Stop at Whites Mercantile\, The Grange\, or reserve a spot to shoot trap and skeet at The Wilson Field Club. \nPlease inquire about available overnight accommodations\, sponsorships\, and registration with Halle Herrington at Halle.Herrington@wilsonarkansas.com
URL:https://thelouishotel.com/event/wilson-chamber-of-commerce-golf-tournament/
LOCATION:The Louis Hotel\, 3 Cross St\, Wilson\, AR\, 72395\, United States
ATTACH;FMTTYPE=image/jpeg:https://thelouishotel.com/wp-content/uploads/TinHouse1Bunker.jpg
END:VEVENT
BEGIN:VEVENT
DTSTART;TZID=America/Chicago:20250405T110000
DTEND;TZID=America/Chicago:20250405T170000
DTSTAMP:20260425T180535
CREATED:20240502T155836Z
LAST-MODIFIED:20250122T215133Z
UID:10000039-1743850800-1743872400@thelouishotel.com
SUMMARY:10th Annual Crawfish Festival - Named to Best Festival in USA
DESCRIPTION:Mark your calendars for the Tenth Annual Crawfish Festival!\nFeast on some of the best crawfish in The Delta while enjoying music\, a crawfish cooking competition\, kid-friendly activities\, peruse local vendors and the best part is festival admission is complimentary with a donation to the local fire department and/or Rivercrest Future Farmers of America. \n7am  Grange Opens \n10am  Wilson Crawfish 10 Vendors Load in \n10am  Wilson Café Opens for Brunch \n11am  Little Miss Crawfish Pageant Wilson Theater \n11am  Complimentary Parking Lots Open – Donations to Wilson Fire Dept & Rivercrest FFA \n11am  Doors Open Tenth Annual Wilson Crawfish Festival \n11am  DJ Hallaster Begins \n11am  Food Trucks Open \n11am  Local Vendors Open on the Grange Lawn \n11am  Petting Zoo Opens \n11am  Official Wilson Crawfish 10 Merchandise On Sale \n11am  Wilson Crawfish Bars Open inside the Grange and on the patio \nNoon  Kids Zone Contest in the Kids Zone \nNoon  Train Rides Open \n12:30p  Little Miss Crawfish Winners Announced \n2pm  Kids Zone Contest \n3pm  Kids Zone Contest \n4pm  Winners Announced from Crawfish Stage \n5pm  Last call for Wilson Crawfish Bars \n5pm  Wilson Café Opens \n5pm  Staple at The Louis Opens \nClick for Event Map
URL:https://thelouishotel.com/event/crawfish-festival-2/
LOCATION:The Louis Hotel\, 3 Cross St\, Wilson\, AR\, 72395\, United States
ATTACH;FMTTYPE=image/jpeg:https://thelouishotel.com/wp-content/uploads/image-asset-4.jpeg
ORGANIZER;CN="The Louis Hotel":MAILTO:info@thelouishotel.com
END:VEVENT
BEGIN:VEVENT
DTSTART;TZID=America/Chicago:20250420T100000
DTEND;TZID=America/Chicago:20250420T140000
DTSTAMP:20260425T180535
CREATED:20250202T231736Z
LAST-MODIFIED:20250202T231736Z
UID:10000100-1745143200-1745157600@thelouishotel.com
SUMMARY:Easter in Wilson
DESCRIPTION:Easter Brunch at The Wilson Café \nJoin us for a delightful Easter celebration filled with delicious food\, warm hospitality\, and festive cheer! \n🍽️ Indulge in Our Award Winning Menu Along with Special Easter Features\nFrom our Award-Winning Brunch menu to all of our specials\, this Easter Brunch will be your best ever! \n🎶 Family Fun:\nChildren will enjoy the Easter Egg Hunt and train rides in the Village square. \n\n\n\n\n\nMake Easter Extra special by booking a guest room at the Louis
URL:https://thelouishotel.com/event/easter-in-wilson/
LOCATION:Wilson Cafe\, 2 North Jefferson Street Wilson\, AR 72395 United States\, Wilson\, AR\, 72395\, United States
ATTACH;FMTTYPE=image/png:https://thelouishotel.com/wp-content/uploads/TulipsCafeJan.png
END:VEVENT
END:VCALENDAR