BEGIN:VCALENDAR
VERSION:2.0
PRODID:-//The Louis Hotel - ECPv6.15.20//NONSGML v1.0//EN
CALSCALE:GREGORIAN
METHOD:PUBLISH
X-WR-CALNAME:The Louis Hotel
X-ORIGINAL-URL:https://thelouishotel.com
X-WR-CALDESC:Events for The Louis Hotel
REFRESH-INTERVAL;VALUE=DURATION:PT1H
X-Robots-Tag:noindex
X-PUBLISHED-TTL:PT1H
BEGIN:VTIMEZONE
TZID:America/Chicago
BEGIN:DAYLIGHT
TZOFFSETFROM:-0600
TZOFFSETTO:-0500
TZNAME:CDT
DTSTART:20240310T080000
END:DAYLIGHT
BEGIN:STANDARD
TZOFFSETFROM:-0500
TZOFFSETTO:-0600
TZNAME:CST
DTSTART:20241103T070000
END:STANDARD
BEGIN:DAYLIGHT
TZOFFSETFROM:-0600
TZOFFSETTO:-0500
TZNAME:CDT
DTSTART:20250309T080000
END:DAYLIGHT
BEGIN:STANDARD
TZOFFSETFROM:-0500
TZOFFSETTO:-0600
TZNAME:CST
DTSTART:20251102T070000
END:STANDARD
BEGIN:DAYLIGHT
TZOFFSETFROM:-0600
TZOFFSETTO:-0500
TZNAME:CDT
DTSTART:20260308T080000
END:DAYLIGHT
BEGIN:STANDARD
TZOFFSETFROM:-0500
TZOFFSETTO:-0600
TZNAME:CST
DTSTART:20261101T070000
END:STANDARD
END:VTIMEZONE
BEGIN:VEVENT
DTSTART;TZID=America/Chicago:20250315T140000
DTEND;TZID=America/Chicago:20250315T160000
DTSTAMP:20260425T195047
CREATED:20240901T230146Z
LAST-MODIFIED:20240901T230146Z
UID:10000050-1742047200-1742054400@thelouishotel.com
SUMMARY:Wilson Bloody Mary Competition
DESCRIPTION:Wilson Bloody Mary Competition \nDo you make the BEST Bloody Mary’s? Do you always enjoy St. Patrick’s Day? Prove it! \nThe Village of Wilson and the Wilson Chamber of Commerce invites you to join us in a competition for the title of best Bloody Mary in Northeast Arkansas with proceeds benefitting Wilson Works. \nMemphis\, TN’s Old Dominick Distillery\, South End Liquours and Farmer’s Parts and Supply will join us as sponsors\, and a three-person judge panel will score and critique each entry. \nLive entertainment will perform on the Theater Stage during the event. \nTickets will be available at the door for people to enjoy the 21 and over event. These tickets will be $5 which is donated to Wilson Works Foundation. \nFor those who want the real deal\, the Bloody Mary tasting experience will also be available at the door for $30 which will allow you to enjoy four six ounce bloody mary’s from the competitors of your choosing. \nContestants: A table\, two chairs\, cups\, Old Dominick vodka\, and ice will be provided for $50. Please purchase your contestant ticket at the link in this Eventbrite post before we sell out. Arrive at the event at 1:00pm to begin preparations. \nParticipants will make approximately three gallons of Bloody Mary’s. \nJudges will use the following criteria to critique each entry: Appearance\, Taste\, and Creativity. \nPrizes \nFirst Place: $200 and bragging rights \nSecond Place: $100 \nThird Place: $50 \nPeople’s Choice Award
URL:https://thelouishotel.com/event/wilson-bloody-mary-competition/
LOCATION:The Louis Hotel\, 3 Cross St\, Wilson\, AR\, 72395\, United States
ATTACH;FMTTYPE=image/png:https://thelouishotel.com/wp-content/uploads/BloodyforLouis.png
END:VEVENT
END:VCALENDAR