BEGIN:VCALENDAR
VERSION:2.0
PRODID:-//The Louis Hotel - ECPv6.15.20//NONSGML v1.0//EN
CALSCALE:GREGORIAN
METHOD:PUBLISH
X-ORIGINAL-URL:https://thelouishotel.com
X-WR-CALDESC:Events for The Louis Hotel
REFRESH-INTERVAL;VALUE=DURATION:PT1H
X-Robots-Tag:noindex
X-PUBLISHED-TTL:PT1H
BEGIN:VTIMEZONE
TZID:America/Chicago
BEGIN:DAYLIGHT
TZOFFSETFROM:-0600
TZOFFSETTO:-0500
TZNAME:CDT
DTSTART:20240310T080000
END:DAYLIGHT
BEGIN:STANDARD
TZOFFSETFROM:-0500
TZOFFSETTO:-0600
TZNAME:CST
DTSTART:20241103T070000
END:STANDARD
BEGIN:DAYLIGHT
TZOFFSETFROM:-0600
TZOFFSETTO:-0500
TZNAME:CDT
DTSTART:20250309T080000
END:DAYLIGHT
BEGIN:STANDARD
TZOFFSETFROM:-0500
TZOFFSETTO:-0600
TZNAME:CST
DTSTART:20251102T070000
END:STANDARD
BEGIN:DAYLIGHT
TZOFFSETFROM:-0600
TZOFFSETTO:-0500
TZNAME:CDT
DTSTART:20260308T080000
END:DAYLIGHT
BEGIN:STANDARD
TZOFFSETFROM:-0500
TZOFFSETTO:-0600
TZNAME:CST
DTSTART:20261101T070000
END:STANDARD
END:VTIMEZONE
BEGIN:VEVENT
DTSTART;TZID=America/Chicago:20250201T170000
DTEND;TZID=America/Chicago:20250228T210000
DTSTAMP:20260425T225756
CREATED:20250101T223629Z
LAST-MODIFIED:20250101T232125Z
UID:10000068-1738429200-1740776400@thelouishotel.com
SUMMARY:Hearts A Flutter: 28 Days of Romance
DESCRIPTION:We celebrate Valentines the entire month of February in Wilson! \nA month of activities are scheduled to enrich your time with us.
URL:https://thelouishotel.com/event/hearts-a-flutter-28-days-of-romance/
LOCATION:The Louis Hotel\, 3 Cross St\, Wilson\, AR\, 72395\, United States
ATTACH;FMTTYPE=image/png:https://thelouishotel.com/wp-content/uploads/heartsaflutter.png
END:VEVENT
BEGIN:VEVENT
DTSTART;TZID=America/Chicago:20250221T170000
DTEND;TZID=America/Chicago:20250221T200000
DTSTAMP:20260425T225756
CREATED:20250101T225513Z
LAST-MODIFIED:20250101T225513Z
UID:10000078-1740157200-1740168000@thelouishotel.com
SUMMARY:From the Sea & The Farm: Surf\, Turf\, and Vino
DESCRIPTION:From the Sea & The Farm: Surf\, Turf\, and Vino \nIndulge in an elegant evening where the best of land and sea come together on your plate. \nThis special evening at the Cafe will have features with expertly crafted special dishes blending succulent seafood\, tender cuts of meat\, and perfectly paired wines. \nLet the rich flavors of the ocean and countryside transport your taste buds as you savor each course in a warm\, inviting atmosphere. A night of culinary harmony awaits!
URL:https://thelouishotel.com/event/from-the-sea-the-farm-surf-turf-and-vino/
LOCATION:The Louis Hotel\, 3 Cross St\, Wilson\, AR\, 72395\, United States
ATTACH;FMTTYPE=image/png:https://thelouishotel.com/wp-content/uploads/tomahawkChefJoe.png
END:VEVENT
BEGIN:VEVENT
DTSTART;TZID=America/Chicago:20250221T170000
DTEND;TZID=America/Chicago:20250221T210000
DTSTAMP:20260425T225756
CREATED:20250202T231219Z
LAST-MODIFIED:20250202T231219Z
UID:10000097-1740157200-1740171600@thelouishotel.com
SUMMARY:Hearts A Flutter: Wilson Cafe Entrees
DESCRIPTION:
URL:https://thelouishotel.com/event/hearts-a-flutter-wilson-cafe-entrees/
LOCATION:Wilson Cafe\, 2 North Jefferson Street Wilson\, AR 72395 United States\, Wilson\, AR\, 72395\, United States
ATTACH;FMTTYPE=image/png:https://thelouishotel.com/wp-content/uploads/smokedStirredWide-1.png
END:VEVENT
END:VCALENDAR