BEGIN:VCALENDAR
VERSION:2.0
PRODID:-//The Louis Hotel - ECPv6.15.20//NONSGML v1.0//EN
CALSCALE:GREGORIAN
METHOD:PUBLISH
X-WR-CALNAME:The Louis Hotel
X-ORIGINAL-URL:https://thelouishotel.com
X-WR-CALDESC:Events for The Louis Hotel
REFRESH-INTERVAL;VALUE=DURATION:PT1H
X-Robots-Tag:noindex
X-PUBLISHED-TTL:PT1H
BEGIN:VTIMEZONE
TZID:America/Chicago
BEGIN:DAYLIGHT
TZOFFSETFROM:-0600
TZOFFSETTO:-0500
TZNAME:CDT
DTSTART:20240310T080000
END:DAYLIGHT
BEGIN:STANDARD
TZOFFSETFROM:-0500
TZOFFSETTO:-0600
TZNAME:CST
DTSTART:20241103T070000
END:STANDARD
BEGIN:DAYLIGHT
TZOFFSETFROM:-0600
TZOFFSETTO:-0500
TZNAME:CDT
DTSTART:20250309T080000
END:DAYLIGHT
BEGIN:STANDARD
TZOFFSETFROM:-0500
TZOFFSETTO:-0600
TZNAME:CST
DTSTART:20251102T070000
END:STANDARD
BEGIN:DAYLIGHT
TZOFFSETFROM:-0600
TZOFFSETTO:-0500
TZNAME:CDT
DTSTART:20260308T080000
END:DAYLIGHT
BEGIN:STANDARD
TZOFFSETFROM:-0500
TZOFFSETTO:-0600
TZNAME:CST
DTSTART:20261101T070000
END:STANDARD
END:VTIMEZONE
BEGIN:VEVENT
DTSTART;TZID=America/Chicago:20250201T170000
DTEND;TZID=America/Chicago:20250228T210000
DTSTAMP:20260425T225642
CREATED:20250101T223629Z
LAST-MODIFIED:20250101T232125Z
UID:10000068-1738429200-1740776400@thelouishotel.com
SUMMARY:Hearts A Flutter: 28 Days of Romance
DESCRIPTION:We celebrate Valentines the entire month of February in Wilson! \nA month of activities are scheduled to enrich your time with us.
URL:https://thelouishotel.com/event/hearts-a-flutter-28-days-of-romance/
LOCATION:The Louis Hotel\, 3 Cross St\, Wilson\, AR\, 72395\, United States
ATTACH;FMTTYPE=image/png:https://thelouishotel.com/wp-content/uploads/heartsaflutter.png
END:VEVENT
BEGIN:VEVENT
DTSTART;TZID=America/Chicago:20250220T170000
DTEND;TZID=America/Chicago:20250220T180000
DTSTAMP:20260425T225642
CREATED:20250202T231121Z
LAST-MODIFIED:20250202T231121Z
UID:10000096-1740070800-1740074400@thelouishotel.com
SUMMARY:Hearts A Flutter: 28 Days of Romance\, Wilson Cafe
DESCRIPTION:In addition to our dining menu\, we will offer the following tonight: \nA night of culinary fun awaits!\n$125 comes with glass of sparkling wine. $200 per couple. \nAdd $35 For Brendel wine pairing.\nAdd $75 for Demine estates wine Pairing. \nSalad \nRoasted Beets & Goat Cheese Salad \nArugula\, Baby Spinach\, Pistachio\, Pickled Onion\, Goat Cheese Fritter\, Red Wine Vinaigrette \nEntrée \nFilet of Beef & Shrimp Smoked Cheddar Au Gratin Potatoes\, Haricot Verts\, Bearnaise \nDessert \nRed Velvet Strawberry Cake
URL:https://thelouishotel.com/event/hearts-a-flutter-28-days-of-romance-wilson-cafe-2/
LOCATION:The Louis Hotel\, 3 Cross St\, Wilson\, AR\, 72395\, United States
ATTACH;FMTTYPE=image/png:https://thelouishotel.com/wp-content/uploads/ValentinesDay2025.png
END:VEVENT
BEGIN:VEVENT
DTSTART;TZID=America/Chicago:20250220T170000
DTEND;TZID=America/Chicago:20250220T190000
DTSTAMP:20260425T225642
CREATED:20250101T225400Z
LAST-MODIFIED:20250101T225400Z
UID:10000077-1740070800-1740078000@thelouishotel.com
SUMMARY:Smoked & Stirred: Love on the Rocks
DESCRIPTION:Smoked & Stirred is a fun evening where the best of BBQ and Whiskey come together. \nThis special evening at the Cafe will have features with expertly crafted dishes blending barbeque and your favorite whiskey. \nA night of culinary fun awaits!
URL:https://thelouishotel.com/event/smoked-stirred-love-on-the-rocks/
LOCATION:The Louis Hotel\, 3 Cross St\, Wilson\, AR\, 72395\, United States
ATTACH;FMTTYPE=image/png:https://thelouishotel.com/wp-content/uploads/smokedStirredWide.png
END:VEVENT
END:VCALENDAR