BEGIN:VCALENDAR
VERSION:2.0
PRODID:-//The Louis Hotel - ECPv6.15.20//NONSGML v1.0//EN
CALSCALE:GREGORIAN
METHOD:PUBLISH
X-WR-CALNAME:The Louis Hotel
X-ORIGINAL-URL:https://thelouishotel.com
X-WR-CALDESC:Events for The Louis Hotel
REFRESH-INTERVAL;VALUE=DURATION:PT1H
X-Robots-Tag:noindex
X-PUBLISHED-TTL:PT1H
BEGIN:VTIMEZONE
TZID:America/Chicago
BEGIN:DAYLIGHT
TZOFFSETFROM:-0600
TZOFFSETTO:-0500
TZNAME:CDT
DTSTART:20240310T080000
END:DAYLIGHT
BEGIN:STANDARD
TZOFFSETFROM:-0500
TZOFFSETTO:-0600
TZNAME:CST
DTSTART:20241103T070000
END:STANDARD
BEGIN:DAYLIGHT
TZOFFSETFROM:-0600
TZOFFSETTO:-0500
TZNAME:CDT
DTSTART:20250309T080000
END:DAYLIGHT
BEGIN:STANDARD
TZOFFSETFROM:-0500
TZOFFSETTO:-0600
TZNAME:CST
DTSTART:20251102T070000
END:STANDARD
BEGIN:DAYLIGHT
TZOFFSETFROM:-0600
TZOFFSETTO:-0500
TZNAME:CDT
DTSTART:20260308T080000
END:DAYLIGHT
BEGIN:STANDARD
TZOFFSETFROM:-0500
TZOFFSETTO:-0600
TZNAME:CST
DTSTART:20261101T070000
END:STANDARD
END:VTIMEZONE
BEGIN:VEVENT
DTSTART;TZID=America/Chicago:20250201T170000
DTEND;TZID=America/Chicago:20250228T210000
DTSTAMP:20260425T225643
CREATED:20250101T223629Z
LAST-MODIFIED:20250101T232125Z
UID:10000068-1738429200-1740776400@thelouishotel.com
SUMMARY:Hearts A Flutter: 28 Days of Romance
DESCRIPTION:We celebrate Valentines the entire month of February in Wilson! \nA month of activities are scheduled to enrich your time with us.
URL:https://thelouishotel.com/event/hearts-a-flutter-28-days-of-romance/
LOCATION:The Louis Hotel\, 3 Cross St\, Wilson\, AR\, 72395\, United States
ATTACH;FMTTYPE=image/png:https://thelouishotel.com/wp-content/uploads/heartsaflutter.png
END:VEVENT
BEGIN:VEVENT
DTSTART;TZID=America/Chicago:20250206T170000
DTEND;TZID=America/Chicago:20250206T180000
DTSTAMP:20260425T225643
CREATED:20250101T224056Z
LAST-MODIFIED:20250101T224056Z
UID:10000071-1738861200-1738864800@thelouishotel.com
SUMMARY:Wilson Supper Club: Tropical Cocktails Dinner
DESCRIPTION:
URL:https://thelouishotel.com/event/wilson-supper-club-tropical-cocktails-dinner/
LOCATION:The Louis Hotel\, 3 Cross St\, Wilson\, AR\, 72395\, United States
ATTACH;FMTTYPE=image/png:https://thelouishotel.com/wp-content/uploads/TikiCafe2.png
END:VEVENT
BEGIN:VEVENT
DTSTART;TZID=America/Chicago:20250206T180000
DTEND;TZID=America/Chicago:20250206T200000
DTSTAMP:20260425T225643
CREATED:20250202T225719Z
LAST-MODIFIED:20250202T225752Z
UID:10000089-1738864800-1738872000@thelouishotel.com
SUMMARY:Hearts a Flutter Dinner
DESCRIPTION:Join us at Wilson Supper Club for a night of Tiki Love: sipping on tropical cocktails and indulging in a delicious dinner. \nHearts A Flutter in Wilson is a celebration of 28 Days of Romance and The Wilson Café invites you to indulge in a culinary experience designed to ignite romance and delight your senses. \nOur special entrée features have been carefully crafted to make your evening unforgettable\, combining the finest ingredients with the art of love on a plate. \n$125 comes with glass of sparkling wine. $200 per couple. \n$35 For Brendel wine pairing.\n$75 for Demine estates wine Pairing. \nSalad \nRoasted Beets & Goat Cheese Salad \nArugula\, Baby Spinach\, Pistachio\, Pickled Onion\, Goat Cheese Fritter\, Red Wine Vinaigrette \nEntrée \nSmoked Prime Rib\, Colossal Baked Potato\, Grilled Asparagus\, Horseradish Sauce\, BBQ Au jus \nDessert \nRed Velvet Strawberry Cake
URL:https://thelouishotel.com/event/hearts-a-flutter-dinner/
LOCATION:Wilson Cafe\, 2 North Jefferson Street Wilson\, AR 72395 United States\, Wilson\, AR\, 72395\, United States
ATTACH;FMTTYPE=image/png:https://thelouishotel.com/wp-content/uploads/ValentineDay50.png
END:VEVENT
END:VCALENDAR